<Capabilities xmlns="http://www.opengis.net/wmts/1.0" xmlns:ows="http://www.opengis.net/ows/1.1" xmlns:xlink="http://www.w3.org/1999/xlink" xmlns:xsi="http://www.w3.org/2001/XMLSchema-instance" xmlns:gml="http://www.opengis.net/gml" xsi:schemaLocation="http://www.opengis.net/wmts/1.0 http://schemas.opengis.net/wmts/1.0/wmtsGetCapabilities_response.xsd" version="1.0.0"><!-- Service Identification --> <ows:ServiceIdentification><ows:Title>1629_Expugnatio_26mei25</ows:Title><ows:ServiceType>OGC WMTS</ows:ServiceType><ows:ServiceTypeVersion>1.0.0</ows:ServiceTypeVersion></ows:ServiceIdentification><!-- Operations Metadata --><ows:OperationsMetadata><ows:Operation name="GetCapabilities"><ows:DCP><ows:HTTP><ows:Get xlink:href="https://tiles-eu1.arcgis.com/fyncqJ7cWHF7TuW8/arcgis/rest/services/1629_Expugnatio_26mei25/MapServer/WMTS/1.0.0/WMTSCapabilities.xml"><ows:Constraint name="GetEncoding"><ows:AllowedValues> <ows:Value>RESTful</ows:Value></ows:AllowedValues></ows:Constraint> </ows:Get><ows:Get xlink:href="https://tiles-eu1.arcgis.com/fyncqJ7cWHF7TuW8/arcgis/rest/services/1629_Expugnatio_26mei25/MapServer/WMTS?"> <ows:Constraint name="GetEncoding"><ows:AllowedValues><ows:Value>KVP</ows:Value></ows:AllowedValues></ows:Constraint></ows:Get></ows:HTTP></ows:DCP></ows:Operation><ows:Operation name="GetTile"><ows:DCP><ows:HTTP><ows:Get xlink:href="https://tiles-eu1.arcgis.com/fyncqJ7cWHF7TuW8/arcgis/rest/services/1629_Expugnatio_26mei25/MapServer/WMTS/tile/1.0.0/"><ows:Constraint name="GetEncoding"><ows:AllowedValues><ows:Value>RESTful</ows:Value></ows:AllowedValues></ows:Constraint></ows:Get><ows:Get xlink:href="https://tiles-eu1.arcgis.com/fyncqJ7cWHF7TuW8/arcgis/rest/services/1629_Expugnatio_26mei25/MapServer/WMTS?"><ows:Constraint name="GetEncoding"><ows:AllowedValues><ows:Value>KVP</ows:Value></ows:AllowedValues></ows:Constraint></ows:Get></ows:HTTP></ows:DCP></ows:Operation></ows:OperationsMetadata><Contents><Layer><ows:Title>1629_Expugnatio_26mei25</ows:Title><ows:Identifier>1629_Expugnatio_26mei25</ows:Identifier><ows:BoundingBox crs="urn:ogc:def:crs:EPSG::28992"><ows:LowerCorner>140096.3846822094 401631.5935785211</ows:LowerCorner><ows:UpperCorner>158729.39399329526 419451.09034790413</ows:UpperCorner></ows:BoundingBox><ows:WGS84BoundingBox crs="urn:ogc:def:crs:OGC:2:84"><ows:LowerCorner>5.171313259372441 51.60337812484594</ows:LowerCorner><ows:UpperCorner>5.441224464855357 51.76374618058878</ows:UpperCorner></ows:WGS84BoundingBox><Style isDefault="true"><ows:Title>Default Style</ows:Title><ows:Identifier>default</ows:Identifier></Style><Format>image/png</Format><TileMatrixSetLink><TileMatrixSet>default028mm</TileMatrixSet></TileMatrixSetLink><ResourceURL format="image/png" resourceType="tile" template="https://tiles-eu1.arcgis.com/fyncqJ7cWHF7TuW8/arcgis/rest/services/1629_Expugnatio_26mei25/MapServer/WMTS/tile/1.0.0/1629_Expugnatio_26mei25/{Style}/{TileMatrixSet}/{TileMatrix}/{TileRow}/{TileCol}.png"/></Layer><!-- Tile Matrix Set --><TileMatrixSet><ows:Title>TileMatrix using 0.28mm</ows:Title><ows:Abstract>The tile matrix set that has scale values calculated based on the dpi defined by OGC specification (dpi assumes 0.28mm as the physical distance of a pixel).</ows:Abstract><ows:Identifier>default028mm</ows:Identifier><ows:SupportedCRS>urn:ogc:def:crs:EPSG::28992</ows:SupportedCRS><TileMatrix><ows:Identifier>4</ows:Identifier><ScaleDenominator>362857.86851573706</ScaleDenominator><TopLeftCorner>-285401.92 903401.92</TopLeftCorner><TileWidth>512</TileWidth> <TileHeight>512</TileHeight><MatrixWidth>9</MatrixWidth><MatrixHeight>10</MatrixHeight></TileMatrix><TileMatrix><ows:Identifier>5</ows:Identifier><ScaleDenominator>181428.93425786853</ScaleDenominator><TopLeftCorner>-285401.92 903401.92</TopLeftCorner><TileWidth>512</TileWidth> <TileHeight>512</TileHeight><MatrixWidth>18</MatrixWidth><MatrixHeight>20</MatrixHeight></TileMatrix><TileMatrix><ows:Identifier>6</ows:Identifier><ScaleDenominator>90714.46712893427</ScaleDenominator><TopLeftCorner>-285401.92 903401.92</TopLeftCorner><TileWidth>512</TileWidth> <TileHeight>512</TileHeight><MatrixWidth>35</MatrixWidth><MatrixHeight>39</MatrixHeight></TileMatrix><TileMatrix><ows:Identifier>7</ows:Identifier><ScaleDenominator>45357.23356446713</ScaleDenominator><TopLeftCorner>-285401.92 903401.92</TopLeftCorner><TileWidth>512</TileWidth> <TileHeight>512</TileHeight><MatrixWidth>69</MatrixWidth><MatrixHeight>78</MatrixHeight></TileMatrix><TileMatrix><ows:Identifier>8</ows:Identifier><ScaleDenominator>22678.616782233566</ScaleDenominator><TopLeftCorner>-285401.92 903401.92</TopLeftCorner><TileWidth>512</TileWidth> <TileHeight>512</TileHeight><MatrixWidth>137</MatrixWidth><MatrixHeight>155</MatrixHeight></TileMatrix><TileMatrix><ows:Identifier>9</ows:Identifier><ScaleDenominator>11339.308391116783</ScaleDenominator><TopLeftCorner>-285401.92 903401.92</TopLeftCorner><TileWidth>512</TileWidth> <TileHeight>512</TileHeight><MatrixWidth>274</MatrixWidth><MatrixHeight>309</MatrixHeight></TileMatrix><TileMatrix><ows:Identifier>10</ows:Identifier><ScaleDenominator>5669.654195558392</ScaleDenominator><TopLeftCorner>-285401.92 903401.92</TopLeftCorner><TileWidth>512</TileWidth> <TileHeight>512</TileHeight><MatrixWidth>547</MatrixWidth><MatrixHeight>618</MatrixHeight></TileMatrix><TileMatrix><ows:Identifier>11</ows:Identifier><ScaleDenominator>2834.827097779196</ScaleDenominator><TopLeftCorner>-285401.92 903401.92</TopLeftCorner><TileWidth>512</TileWidth> <TileHeight>512</TileHeight><MatrixWidth>1093</MatrixWidth><MatrixHeight>1235</MatrixHeight></TileMatrix><TileMatrix><ows:Identifier>12</ows:Identifier><ScaleDenominator>1417.413548889598</ScaleDenominator><TopLeftCorner>-285401.92 903401.92</TopLeftCorner><TileWidth>512</TileWidth> <TileHeight>512</TileHeight><MatrixWidth>2186</MatrixWidth><MatrixHeight>2470</MatrixHeight></TileMatrix><TileMatrix><ows:Identifier>13</ows:Identifier><ScaleDenominator>708.706774444799</ScaleDenominator><TopLeftCorner>-285401.92 903401.92</TopLeftCorner><TileWidth>512</TileWidth> <TileHeight>512</TileHeight><MatrixWidth>4372</MatrixWidth><MatrixHeight>4939</MatrixHeight></TileMatrix><TileMatrix><ows:Identifier>14</ows:Identifier><ScaleDenominator>354.3533872223995</ScaleDenominator><TopLeftCorner>-285401.92 903401.92</TopLeftCorner><TileWidth>512</TileWidth> <TileHeight>512</TileHeight><MatrixWidth>8743</MatrixWidth><MatrixHeight>9878</MatrixHeight></TileMatrix></TileMatrixSet></Contents><ServiceMetadataURL xlink:href="https://tiles-eu1.arcgis.com/fyncqJ7cWHF7TuW8/arcgis/rest/services/1629_Expugnatio_26mei25/MapServer/WMTS/1.0.0/WMTSCapabilities.xml"/></Capabilities>