<Capabilities xmlns="http://www.opengis.net/wmts/1.0" xmlns:ows="http://www.opengis.net/ows/1.1" xmlns:xlink="http://www.w3.org/1999/xlink" xmlns:xsi="http://www.w3.org/2001/XMLSchema-instance" xmlns:gml="http://www.opengis.net/gml" xsi:schemaLocation="http://www.opengis.net/wmts/1.0 http://schemas.opengis.net/wmts/1.0/wmtsGetCapabilities_response.xsd" version="1.0.0"><!-- Service Identification --> <ows:ServiceIdentification><ows:Title>Pirkanmaan_maakuntakaava_2040_tiili</ows:Title><ows:ServiceType>OGC WMTS</ows:ServiceType><ows:ServiceTypeVersion>1.0.0</ows:ServiceTypeVersion></ows:ServiceIdentification><!-- Operations Metadata --><ows:OperationsMetadata><ows:Operation name="GetCapabilities"><ows:DCP><ows:HTTP><ows:Get xlink:href="https://tiles-eu1.arcgis.com/Wd6XGXvnPuLuEzzr/arcgis/rest/services/Pirkanmaan_maakuntakaava_2040_tiili/MapServer/WMTS/1.0.0/WMTSCapabilities.xml"><ows:Constraint name="GetEncoding"><ows:AllowedValues> <ows:Value>RESTful</ows:Value></ows:AllowedValues></ows:Constraint> </ows:Get><ows:Get xlink:href="https://tiles-eu1.arcgis.com/Wd6XGXvnPuLuEzzr/arcgis/rest/services/Pirkanmaan_maakuntakaava_2040_tiili/MapServer/WMTS?"> <ows:Constraint name="GetEncoding"><ows:AllowedValues><ows:Value>KVP</ows:Value></ows:AllowedValues></ows:Constraint></ows:Get></ows:HTTP></ows:DCP></ows:Operation><ows:Operation name="GetTile"><ows:DCP><ows:HTTP><ows:Get xlink:href="https://tiles-eu1.arcgis.com/Wd6XGXvnPuLuEzzr/arcgis/rest/services/Pirkanmaan_maakuntakaava_2040_tiili/MapServer/WMTS/tile/1.0.0/"><ows:Constraint name="GetEncoding"><ows:AllowedValues><ows:Value>RESTful</ows:Value></ows:AllowedValues></ows:Constraint></ows:Get><ows:Get xlink:href="https://tiles-eu1.arcgis.com/Wd6XGXvnPuLuEzzr/arcgis/rest/services/Pirkanmaan_maakuntakaava_2040_tiili/MapServer/WMTS?"><ows:Constraint name="GetEncoding"><ows:AllowedValues><ows:Value>KVP</ows:Value></ows:AllowedValues></ows:Constraint></ows:Get></ows:HTTP></ows:DCP></ows:Operation></ows:OperationsMetadata><Contents><Layer><ows:Title>Pirkanmaan_maakuntakaava_2040_tiili</ows:Title><ows:Identifier>Pirkanmaan_maakuntakaava_2040_tiili</ows:Identifier><ows:BoundingBox crs="urn:ogc:def:crs:EPSG::3067"><ows:LowerCorner>256997.6896 6760201.18</ows:LowerCorner><ows:UpperCorner>391802.7318 6933246.5444</ows:UpperCorner></ows:BoundingBox><ows:WGS84BoundingBox crs="urn:ogc:def:crs:OGC:2:84"><ows:LowerCorner>22.28780124599485 60.90217131315921</ows:LowerCorner><ows:UpperCorner>25.001700983804536 62.51439121579253</ows:UpperCorner></ows:WGS84BoundingBox><Style isDefault="true"><ows:Title>Default Style</ows:Title><ows:Identifier>default</ows:Identifier></Style><Format>image/png</Format><TileMatrixSetLink><TileMatrixSet>default028mm</TileMatrixSet></TileMatrixSetLink><ResourceURL format="image/png" resourceType="tile" template="https://tiles-eu1.arcgis.com/Wd6XGXvnPuLuEzzr/arcgis/rest/services/Pirkanmaan_maakuntakaava_2040_tiili/MapServer/WMTS/tile/1.0.0/Pirkanmaan_maakuntakaava_2040_tiili/{Style}/{TileMatrixSet}/{TileMatrix}/{TileRow}/{TileCol}.png"/></Layer><!-- Tile Matrix Set --><TileMatrixSet><ows:Title>TileMatrix using 0.28mm</ows:Title><ows:Abstract>The tile matrix set that has scale values calculated based on the dpi defined by OGC specification (dpi assumes 0.28mm as the physical distance of a pixel).</ows:Abstract><ows:Identifier>default028mm</ows:Identifier><ows:SupportedCRS>urn:ogc:def:crs:EPSG::3067</ows:SupportedCRS><TileMatrix><ows:Identifier>6</ows:Identifier><ScaleDenominator>4358766.366734907</ScaleDenominator><TopLeftCorner>-9497963.942936342 9997963.942936342</TopLeftCorner><TileWidth>256</TileWidth> <TileHeight>256</TileHeight><MatrixWidth>32</MatrixWidth><MatrixHeight>11</MatrixHeight></TileMatrix><TileMatrix><ows:Identifier>7</ows:Identifier><ScaleDenominator>2179383.1833674535</ScaleDenominator><TopLeftCorner>-9497963.942936342 9997963.942936342</TopLeftCorner><TileWidth>256</TileWidth> <TileHeight>256</TileHeight><MatrixWidth>64</MatrixWidth><MatrixHeight>21</MatrixHeight></TileMatrix><TileMatrix><ows:Identifier>8</ows:Identifier><ScaleDenominator>1089691.5916837268</ScaleDenominator><TopLeftCorner>-9497963.942936342 9997963.942936342</TopLeftCorner><TileWidth>256</TileWidth> <TileHeight>256</TileHeight><MatrixWidth>127</MatrixWidth><MatrixHeight>42</MatrixHeight></TileMatrix><TileMatrix><ows:Identifier>9</ows:Identifier><ScaleDenominator>544845.7958418634</ScaleDenominator><TopLeftCorner>-9497963.942936342 9997963.942936342</TopLeftCorner><TileWidth>256</TileWidth> <TileHeight>256</TileHeight><MatrixWidth>254</MatrixWidth><MatrixHeight>83</MatrixHeight></TileMatrix><TileMatrix><ows:Identifier>10</ows:Identifier><ScaleDenominator>272422.8979209317</ScaleDenominator><TopLeftCorner>-9497963.942936342 9997963.942936342</TopLeftCorner><TileWidth>256</TileWidth> <TileHeight>256</TileHeight><MatrixWidth>507</MatrixWidth><MatrixHeight>166</MatrixHeight></TileMatrix><TileMatrix><ows:Identifier>11</ows:Identifier><ScaleDenominator>136211.44896046584</ScaleDenominator><TopLeftCorner>-9497963.942936342 9997963.942936342</TopLeftCorner><TileWidth>256</TileWidth> <TileHeight>256</TileHeight><MatrixWidth>1013</MatrixWidth><MatrixHeight>332</MatrixHeight></TileMatrix><TileMatrix><ows:Identifier>12</ows:Identifier><ScaleDenominator>68105.72448023292</ScaleDenominator><TopLeftCorner>-9497963.942936342 9997963.942936342</TopLeftCorner><TileWidth>256</TileWidth> <TileHeight>256</TileHeight><MatrixWidth>2026</MatrixWidth><MatrixHeight>664</MatrixHeight></TileMatrix><TileMatrix><ows:Identifier>13</ows:Identifier><ScaleDenominator>34052.86224011646</ScaleDenominator><TopLeftCorner>-9497963.942936342 9997963.942936342</TopLeftCorner><TileWidth>256</TileWidth> <TileHeight>256</TileHeight><MatrixWidth>4052</MatrixWidth><MatrixHeight>1327</MatrixHeight></TileMatrix><TileMatrix><ows:Identifier>14</ows:Identifier><ScaleDenominator>17026.43112005823</ScaleDenominator><TopLeftCorner>-9497963.942936342 9997963.942936342</TopLeftCorner><TileWidth>256</TileWidth> <TileHeight>256</TileHeight><MatrixWidth>8104</MatrixWidth><MatrixHeight>2653</MatrixHeight></TileMatrix><TileMatrix><ows:Identifier>15</ows:Identifier><ScaleDenominator>8513.215560029115</ScaleDenominator><TopLeftCorner>-9497963.942936342 9997963.942936342</TopLeftCorner><TileWidth>256</TileWidth> <TileHeight>256</TileHeight><MatrixWidth>16207</MatrixWidth><MatrixHeight>5306</MatrixHeight></TileMatrix></TileMatrixSet></Contents><ServiceMetadataURL xlink:href="https://tiles-eu1.arcgis.com/Wd6XGXvnPuLuEzzr/arcgis/rest/services/Pirkanmaan_maakuntakaava_2040_tiili/MapServer/WMTS/1.0.0/WMTSCapabilities.xml"/></Capabilities>