<Capabilities xmlns="http://www.opengis.net/wmts/1.0" xmlns:ows="http://www.opengis.net/ows/1.1" xmlns:xlink="http://www.w3.org/1999/xlink" xmlns:xsi="http://www.w3.org/2001/XMLSchema-instance" xmlns:gml="http://www.opengis.net/gml" xsi:schemaLocation="http://www.opengis.net/wmts/1.0 http://schemas.opengis.net/wmts/1.0/wmtsGetCapabilities_response.xsd" version="1.0.0"><!-- Service Identification --> <ows:ServiceIdentification><ows:Title>Yleiskaava_rasteri_TM35_Naantali</ows:Title><ows:ServiceType>OGC WMTS</ows:ServiceType><ows:ServiceTypeVersion>1.0.0</ows:ServiceTypeVersion></ows:ServiceIdentification><!-- Operations Metadata --><ows:OperationsMetadata><ows:Operation name="GetCapabilities"><ows:DCP><ows:HTTP><ows:Get xlink:href="https://tiles-eu1.arcgis.com/P1cxApjmyq5VQU8z/arcgis/rest/services/Yleiskaava_rasteri_TM35_Naantali/MapServer/WMTS/1.0.0/WMTSCapabilities.xml"><ows:Constraint name="GetEncoding"><ows:AllowedValues> <ows:Value>RESTful</ows:Value></ows:AllowedValues></ows:Constraint> </ows:Get><ows:Get xlink:href="https://tiles-eu1.arcgis.com/P1cxApjmyq5VQU8z/arcgis/rest/services/Yleiskaava_rasteri_TM35_Naantali/MapServer/WMTS?"> <ows:Constraint name="GetEncoding"><ows:AllowedValues><ows:Value>KVP</ows:Value></ows:AllowedValues></ows:Constraint></ows:Get></ows:HTTP></ows:DCP></ows:Operation><ows:Operation name="GetTile"><ows:DCP><ows:HTTP><ows:Get xlink:href="https://tiles-eu1.arcgis.com/P1cxApjmyq5VQU8z/arcgis/rest/services/Yleiskaava_rasteri_TM35_Naantali/MapServer/WMTS/tile/1.0.0/"><ows:Constraint name="GetEncoding"><ows:AllowedValues><ows:Value>RESTful</ows:Value></ows:AllowedValues></ows:Constraint></ows:Get><ows:Get xlink:href="https://tiles-eu1.arcgis.com/P1cxApjmyq5VQU8z/arcgis/rest/services/Yleiskaava_rasteri_TM35_Naantali/MapServer/WMTS?"><ows:Constraint name="GetEncoding"><ows:AllowedValues><ows:Value>KVP</ows:Value></ows:AllowedValues></ows:Constraint></ows:Get></ows:HTTP></ows:DCP></ows:Operation></ows:OperationsMetadata><Contents><Layer><ows:Title>Yleiskaava_rasteri_TM35_Naantali</ows:Title><ows:Identifier>Yleiskaava_rasteri_TM35_Naantali</ows:Identifier><ows:BoundingBox crs="urn:ogc:def:crs:EPSG::3067"><ows:LowerCorner>190007.78125 6673271.46875</ows:LowerCorner><ows:UpperCorner>294471.875 6987137.34375</ows:UpperCorner></ows:BoundingBox><ows:WGS84BoundingBox crs="urn:ogc:def:crs:OGC:2:84"><ows:LowerCorner>20.897897474565678 60.07877257703671</ows:LowerCorner><ows:UpperCorner>23.297770022692152 62.955743537209855</ows:UpperCorner></ows:WGS84BoundingBox><Style isDefault="true"><ows:Title>Default Style</ows:Title><ows:Identifier>default</ows:Identifier></Style><Format>image/png</Format><TileMatrixSetLink><TileMatrixSet>default028mm</TileMatrixSet></TileMatrixSetLink><ResourceURL format="image/png" resourceType="tile" template="https://tiles-eu1.arcgis.com/P1cxApjmyq5VQU8z/arcgis/rest/services/Yleiskaava_rasteri_TM35_Naantali/MapServer/WMTS/tile/1.0.0/Yleiskaava_rasteri_TM35_Naantali/{Style}/{TileMatrixSet}/{TileMatrix}/{TileRow}/{TileCol}.png"/></Layer><!-- Tile Matrix Set --><TileMatrixSet><ows:Title>TileMatrix using 0.28mm</ows:Title><ows:Abstract>The tile matrix set that has scale values calculated based on the dpi defined by OGC specification (dpi assumes 0.28mm as the physical distance of a pixel).</ows:Abstract><ows:Identifier>default028mm</ows:Identifier><ows:SupportedCRS>urn:ogc:def:crs:EPSG::3067</ows:SupportedCRS><TileMatrix><ows:Identifier>9</ows:Identifier><ScaleDenominator>57142.85713385827</ScaleDenominator><TopLeftCorner>-548576.0 8388608.0</TopLeftCorner><TileWidth>256</TileWidth> <TileHeight>256</TileHeight><MatrixWidth>206</MatrixWidth><MatrixHeight>419</MatrixHeight></TileMatrix><TileMatrix><ows:Identifier>10</ows:Identifier><ScaleDenominator>28571.428566929135</ScaleDenominator><TopLeftCorner>-548576.0 8388608.0</TopLeftCorner><TileWidth>256</TileWidth> <TileHeight>256</TileHeight><MatrixWidth>412</MatrixWidth><MatrixHeight>838</MatrixHeight></TileMatrix><TileMatrix><ows:Identifier>11</ows:Identifier><ScaleDenominator>14285.714283464567</ScaleDenominator><TopLeftCorner>-548576.0 8388608.0</TopLeftCorner><TileWidth>256</TileWidth> <TileHeight>256</TileHeight><MatrixWidth>824</MatrixWidth><MatrixHeight>1676</MatrixHeight></TileMatrix><TileMatrix><ows:Identifier>12</ows:Identifier><ScaleDenominator>7142.857141732284</ScaleDenominator><TopLeftCorner>-548576.0 8388608.0</TopLeftCorner><TileWidth>256</TileWidth> <TileHeight>256</TileHeight><MatrixWidth>1647</MatrixWidth><MatrixHeight>3351</MatrixHeight></TileMatrix><TileMatrix><ows:Identifier>13</ows:Identifier><ScaleDenominator>3571.428570866142</ScaleDenominator><TopLeftCorner>-548576.0 8388608.0</TopLeftCorner><TileWidth>256</TileWidth> <TileHeight>256</TileHeight><MatrixWidth>3294</MatrixWidth><MatrixHeight>6701</MatrixHeight></TileMatrix></TileMatrixSet></Contents><ServiceMetadataURL xlink:href="https://tiles-eu1.arcgis.com/P1cxApjmyq5VQU8z/arcgis/rest/services/Yleiskaava_rasteri_TM35_Naantali/MapServer/WMTS/1.0.0/WMTSCapabilities.xml"/></Capabilities>