Services Directory
Toggle Theme
Login
Home
>
Kantakartta_rasteri_Kangasala
JSON
|
WMTS
|
API Reference
Kantakartta_rasteri_Kangasala
(Map Service)
View In:
ArcGIS JavaScript
ArcGIS.com
WMTS
Current Version:
10.81
Service Description:
Map Name:
Layers
Legend
All Layers and Tables
Description:
Copyright Text:
Spatial Reference:
3878
Single Fused Map Cache:
true
Capabilities:
Map,TilesOnly,Tilemap
Tile Info:
Height:
256
Width:
256
DPI:
96
Levels of Detail:
(# Levels: 19)
Level ID:
0 [
Start Tile
,
End Tile
]
Resolution: 8192.0
Scale: 3.096182784E7
Level ID:
1 [
Start Tile
,
End Tile
]
Resolution: 4096.0
Scale: 1.548091392E7
Level ID:
2 [
Start Tile
,
End Tile
]
Resolution: 2048.0
Scale: 7740456.96
Level ID:
3 [
Start Tile
,
End Tile
]
Resolution: 1024.0
Scale: 3870228.48
Level ID:
4 [
Start Tile
,
End Tile
]
Resolution: 512.0
Scale: 1935114.24
Level ID:
5 [
Start Tile
,
End Tile
]
Resolution: 256.0
Scale: 967557.12
Level ID:
6 [
Start Tile
,
End Tile
]
Resolution: 128.0
Scale: 483778.56
Level ID:
7 [
Start Tile
,
End Tile
]
Resolution: 64.0
Scale: 241889.28
Level ID:
8 [
Start Tile
,
End Tile
]
Resolution: 32.0
Scale: 120944.64
Level ID:
9 [
Start Tile
,
End Tile
]
Resolution: 16.0
Scale: 60472.32
Level ID:
10 [
Start Tile
,
End Tile
]
Resolution: 8.0
Scale: 30236.16
Level ID:
11 [
Start Tile
,
End Tile
]
Resolution: 4.0
Scale: 15118.08
Level ID:
12 [
Start Tile
,
End Tile
]
Resolution: 2.0
Scale: 7559.04
Level ID:
13 [
Start Tile
,
End Tile
]
Resolution: 1.0
Scale: 3779.52
Level ID:
14 [
Start Tile
,
End Tile
]
Resolution: 0.5
Scale: 1889.76
Level ID:
15 [
Start Tile
,
End Tile
]
Resolution: 0.25
Scale: 944.88
Level ID:
16 [
Start Tile
,
End Tile
]
Resolution: 0.125
Scale: 472.44
Level ID:
17 [
Start Tile
,
End Tile
]
Resolution: 0.0625
Scale: 236.22
Level ID:
18 [
Start Tile
,
End Tile
]
Resolution: 0.03125
Scale: 118.11
Format:
PNG
Compression Quality:
0
Origin:
X: 2.3451424E7
Y: 8388608.0
Spatial Reference:
3878
Initial Extent:
XMin: 2.446383153125E7
YMin: 6798200.0
XMax: 2.45561985E7
YMax: 6837800.0
Spatial Reference:
3878
Full Extent:
XMin: 2.446383153125E7
YMin: 6798200.0
XMax: 2.45561985E7
YMax: 6837800.0
Spatial Reference:
3878
Min Scale:
7559.04
Max Scale:
0.0
Min LOD:
12
Max LOD:
16
Units:
esriMeters
Supported Image Format Types:
PNG
Export Tiles Allowed:
false
Max Export Tiles Count:
100000
Resampling:
true
Document Info:
Title:
Kantakartta_rasteri_Kangasala
Author:
dmcityservice
Comments:
Subject:
Category:
Keywords:
Kangasala