<Capabilities xmlns="http://www.opengis.net/wmts/1.0" xmlns:ows="http://www.opengis.net/ows/1.1" xmlns:xlink="http://www.w3.org/1999/xlink" xmlns:xsi="http://www.w3.org/2001/XMLSchema-instance" xmlns:gml="http://www.opengis.net/gml" xsi:schemaLocation="http://www.opengis.net/wmts/1.0 http://schemas.opengis.net/wmts/1.0/wmtsGetCapabilities_response.xsd" version="1.0.0"><!-- Service Identification --> <ows:ServiceIdentification><ows:Title>Asemakaava_rasteri_Kangasala</ows:Title><ows:ServiceType>OGC WMTS</ows:ServiceType><ows:ServiceTypeVersion>1.0.0</ows:ServiceTypeVersion></ows:ServiceIdentification><!-- Operations Metadata --><ows:OperationsMetadata><ows:Operation name="GetCapabilities"><ows:DCP><ows:HTTP><ows:Get xlink:href="https://tiles-eu1.arcgis.com/P1cxApjmyq5VQU8z/arcgis/rest/services/Asemakaava_rasteri_Kangasala/MapServer/WMTS/1.0.0/WMTSCapabilities.xml"><ows:Constraint name="GetEncoding"><ows:AllowedValues> <ows:Value>RESTful</ows:Value></ows:AllowedValues></ows:Constraint> </ows:Get><ows:Get xlink:href="https://tiles-eu1.arcgis.com/P1cxApjmyq5VQU8z/arcgis/rest/services/Asemakaava_rasteri_Kangasala/MapServer/WMTS?"> <ows:Constraint name="GetEncoding"><ows:AllowedValues><ows:Value>KVP</ows:Value></ows:AllowedValues></ows:Constraint></ows:Get></ows:HTTP></ows:DCP></ows:Operation><ows:Operation name="GetTile"><ows:DCP><ows:HTTP><ows:Get xlink:href="https://tiles-eu1.arcgis.com/P1cxApjmyq5VQU8z/arcgis/rest/services/Asemakaava_rasteri_Kangasala/MapServer/WMTS/tile/1.0.0/"><ows:Constraint name="GetEncoding"><ows:AllowedValues><ows:Value>RESTful</ows:Value></ows:AllowedValues></ows:Constraint></ows:Get><ows:Get xlink:href="https://tiles-eu1.arcgis.com/P1cxApjmyq5VQU8z/arcgis/rest/services/Asemakaava_rasteri_Kangasala/MapServer/WMTS?"><ows:Constraint name="GetEncoding"><ows:AllowedValues><ows:Value>KVP</ows:Value></ows:AllowedValues></ows:Constraint></ows:Get></ows:HTTP></ows:DCP></ows:Operation></ows:OperationsMetadata><Contents><Layer><ows:Title>Asemakaava_rasteri_Kangasala</ows:Title><ows:Identifier>Asemakaava_rasteri_Kangasala</ows:Identifier><ows:BoundingBox crs="urn:ogc:def:crs:EPSG::3878"><ows:LowerCorner>6798200.0 2.4459013125E7</ows:LowerCorner><ows:UpperCorner>6837800.0 2.45564279375E7</ows:UpperCorner></ows:BoundingBox><ows:WGS84BoundingBox crs="urn:ogc:def:crs:OGC:2:84"><ows:LowerCorner>23.226708488157065 61.289432215364464</ows:LowerCorner><ows:UpperCorner>25.06456372058581 61.64886962241173</ows:UpperCorner></ows:WGS84BoundingBox><Style isDefault="true"><ows:Title>Default Style</ows:Title><ows:Identifier>default</ows:Identifier></Style><Format>image/png</Format><TileMatrixSetLink><TileMatrixSet>default028mm</TileMatrixSet></TileMatrixSetLink><ResourceURL format="image/png" resourceType="tile" template="https://tiles-eu1.arcgis.com/P1cxApjmyq5VQU8z/arcgis/rest/services/Asemakaava_rasteri_Kangasala/MapServer/WMTS/tile/1.0.0/Asemakaava_rasteri_Kangasala/{Style}/{TileMatrixSet}/{TileMatrix}/{TileRow}/{TileCol}.png"/></Layer><!-- Tile Matrix Set --><TileMatrixSet><ows:Title>TileMatrix using 0.28mm</ows:Title><ows:Abstract>The tile matrix set that has scale values calculated based on the dpi defined by OGC specification (dpi assumes 0.28mm as the physical distance of a pixel).</ows:Abstract><ows:Identifier>default028mm</ows:Identifier><ows:SupportedCRS>urn:ogc:def:crs:EPSG::3878</ows:SupportedCRS><TileMatrix><ows:Identifier>12</ows:Identifier><ScaleDenominator>7142.857141732284</ScaleDenominator><TopLeftCorner>8388608.0 2.3451424E7</TopLeftCorner><TileWidth>256</TileWidth> <TileHeight>256</TileHeight><MatrixWidth>2159</MatrixWidth><MatrixHeight>3107</MatrixHeight></TileMatrix><TileMatrix><ows:Identifier>13</ows:Identifier><ScaleDenominator>3571.428570866142</ScaleDenominator><TopLeftCorner>8388608.0 2.3451424E7</TopLeftCorner><TileWidth>256</TileWidth> <TileHeight>256</TileHeight><MatrixWidth>4317</MatrixWidth><MatrixHeight>6213</MatrixHeight></TileMatrix><TileMatrix><ows:Identifier>14</ows:Identifier><ScaleDenominator>1785.714285433071</ScaleDenominator><TopLeftCorner>8388608.0 2.3451424E7</TopLeftCorner><TileWidth>256</TileWidth> <TileHeight>256</TileHeight><MatrixWidth>8633</MatrixWidth><MatrixHeight>12426</MatrixHeight></TileMatrix><TileMatrix><ows:Identifier>15</ows:Identifier><ScaleDenominator>892.8571427165355</ScaleDenominator><TopLeftCorner>8388608.0 2.3451424E7</TopLeftCorner><TileWidth>256</TileWidth> <TileHeight>256</TileHeight><MatrixWidth>17266</MatrixWidth><MatrixHeight>24851</MatrixHeight></TileMatrix><TileMatrix><ows:Identifier>16</ows:Identifier><ScaleDenominator>446.42857135826773</ScaleDenominator><TopLeftCorner>8388608.0 2.3451424E7</TopLeftCorner><TileWidth>256</TileWidth> <TileHeight>256</TileHeight><MatrixWidth>34532</MatrixWidth><MatrixHeight>49701</MatrixHeight></TileMatrix></TileMatrixSet></Contents><ServiceMetadataURL xlink:href="https://tiles-eu1.arcgis.com/P1cxApjmyq5VQU8z/arcgis/rest/services/Asemakaava_rasteri_Kangasala/MapServer/WMTS/1.0.0/WMTSCapabilities.xml"/></Capabilities>