Basiskarte_AV_AGOL_GRAU (Map Service)
View In:
ArcGIS JavaScript
ArcGIS.com
WMTS
Current Version: 10.81
Service Description: Die Basiskarte AV ist ein Produkt, welches sich aus den Daten der amtlichen Vermessung (AV) und den Daten des Basisplans zusammensetzt. Die Basiskarte AV ergänzt den Basisplan 1:10'000 der amtlichen Vermessung und deckt den Massstabsbereich 1:5'000 bis 1:250 ab. Die Informationen werden massstabsabhängig dargestellt. Je weiter hineingezoomt wird, desto mehr Information wird dargestellt bis zum vollständige Informationsinhalt der AV. Um einen Informationsverlust ausserhalb der Siedlungen gegenüber dem Basisplan zu vermeiden, werden diverse Vektordaten des Basisplans inkl. Felszeichnung sowie das Relief als Raster mitverwendet. Von den Daten der amtlichen Vermessung werden nur diejenigen Informationen dargestellt, die für die Darstellung im jeweiligen Massstab wichtig sind. Für die Strassen wird in der Basiskarte AV das TLM sowie das Strassennetz aus der Bodenbedeckung der amtlichen Vermessung verwendet. Die Basiskarte AV steht als Farbversion und als Grautonversion zur Verfügung.
Dieser Layer enthält die gekachelten Rasterdaten der Basiskarte AV bis zum Massstab 1:2'000.
Map Name: Basiskarte_AV_AGOL_GRAU_Mai25
Legend
All Layers and Tables
Layers:
Tables:
Description: Die Basiskarte AV ist ein Produkt, welches sich aus den Daten der amtlichen Vermessung (AV) und den Daten des Basisplans zusammensetzt. Die Basiskarte AV ergänzt den Basisplan 1:10'000 der amtlichen Vermessung und deckt den Massstabsbereich 1:5'000 bis 1:250 ab. Die Informationen werden massstabsabhängig dargestellt. Je weiter hineingezoomt wird, desto mehr Information wird dargestellt bis zum vollständige Informationsinhalt der AV. Um einen Informationsverlust ausserhalb der Siedlungen gegenüber dem Basisplan zu vermeiden, werden diverse Vektordaten des Basisplans inkl. Felszeichnung sowie das Relief als Raster mitverwendet. Von den Daten der amtlichen Vermessung werden nur diejenigen Informationen dargestellt, die für die Darstellung im jeweiligen Massstab wichtig sind. Für die Strassen wird in der Basiskarte AV das TLM sowie das Strassennetz aus der Bodenbedeckung der amtlichen Vermessung verwendet. Die Basiskarte AV steht als Farbversion und als Grautonversion zur Verfügung.
Dieser Layer enthält die gekachelten Rasterdaten der Basiskarte AV bis zum Massstab 1:2'000.
Copyright Text:
Spatial Reference: 2056
Single Fused Map Cache: true
Capabilities: Map,TilesOnly
Tile Info:
- Height: 256
- Width: 256
- DPI: 96
- Levels of Detail: (# Levels: 14)
- Level ID: 0 [Start Tile, End Tile]
Resolution: 500.00132291931254
Scale: 1889765.0
- Level ID: 1 [Start Tile, End Tile]
Resolution: 250.000529167725
Scale: 944882.0
- Level ID: 2 [Start Tile, End Tile]
Resolution: 100.0002645838625
Scale: 377953.0
- Level ID: 3 [Start Tile, End Tile]
Resolution: 50.0
Scale: 188976.0
- Level ID: 4 [Start Tile, End Tile]
Resolution: 20.000158750317503
Scale: 75591.0
- Level ID: 5 [Start Tile, End Tile]
Resolution: 9.9999470832275
Scale: 37795.0
- Level ID: 6 [Start Tile, End Tile]
Resolution: 5.000105833545001
Scale: 18898.0
- Level ID: 7 [Start Tile, End Tile]
Resolution: 2.5000529167725003
Scale: 9449.0
- Level ID: 8 [Start Tile, End Tile]
Resolution: 1.9999894166455001
Scale: 7559.0
- Level ID: 9 [Start Tile, End Tile]
Resolution: 1.5001905003810008
Scale: 5670.0
- Level ID: 10 [Start Tile, End Tile]
Resolution: 1.256773346880027
Scale: 4750.0
- Level ID: 11 [Start Tile, End Tile]
Resolution: 1.0001270002540006
Scale: 3780.0
- Level ID: 12 [Start Tile, End Tile]
Resolution: 0.6614596562526459
Scale: 2500.0
- Level ID: 13 [Start Tile, End Tile]
Resolution: 0.5000635001270003
Scale: 1890.0
- Format: MIXED
- Compression Quality: 90
- Origin:
X: -2.73864E7
Y: 3.18145E7
- Spatial Reference:
2056
Initial Extent: XMin: 2683299.774574551
YMin: 1107299.8229933945
XMax: 2841700.088900179
YMax: 1221700.0500063482
Spatial Reference:
2056
Full Extent: XMin: 2690499.7888620794
YMin: 1112499.833312165
XMax: 2834500.0746126506
YMax: 1216500.0396875776
Spatial Reference:
2056
Min Scale: 1889765.0
Max Scale: 1890.0
Min LOD: 0
Max LOD: 13
Units: esriMeters
Supported Image Format Types: MIXED
Export Tiles Allowed: false
Max Export Tiles Count: 100000
Document Info: - Title: Basiskarte_AV_AGOL_GRAU
- Author: armin.oswald@alg.gr.ch_KT_GR
- Comments:
- Subject: Basiskarte AV des Kantons Graubünden, Grautonversion, November 2024
- Category:
- Keywords: Basiskarte AV